BEGIN:VCALENDAR
VERSION:2.0
PRODID:-//Expat Living Hong Kong - ECPv6.15.20//NONSGML v1.0//EN
CALSCALE:GREGORIAN
METHOD:PUBLISH
X-ORIGINAL-URL:https://expatliving.net/hong-kong
X-WR-CALDESC:Events for Expat Living Hong Kong
REFRESH-INTERVAL;VALUE=DURATION:PT1H
X-Robots-Tag:noindex
X-PUBLISHED-TTL:PT1H
BEGIN:VTIMEZONE
TZID:Asia/Hong_Kong
BEGIN:STANDARD
TZOFFSETFROM:+0800
TZOFFSETTO:+0800
TZNAME:HKT
DTSTART:20240101T000000
END:STANDARD
END:VTIMEZONE
BEGIN:VEVENT
DTSTART;TZID=Asia/Hong_Kong:20250507T180000
DTEND;TZID=Asia/Hong_Kong:20250507T200000
DTSTAMP:20260420T172232
CREATED:20250424T080939Z
LAST-MODIFIED:20250606T131912Z
UID:140243-1746640800-1746648000@expatliving.net
SUMMARY:Family Friendly Vegetarian Cooking With Mansi Shah
DESCRIPTION:Say ‘Goodbye’ to boring salads\, and join Mansi Shah to discover how to prepare easy\, quick\, and healthy vegetarian meals that everyone will love! Learn how to make these family friendly vegetarian meals: \n\nTempeh Bolognese\nBeetroot & Lentil Burger\nBlack Bean Quesadilla\n\nOnly 12 seats available for the demo style-workshop\, so RSVP while tickets are still available!
URL:https://expatliving.net/hong-kong/event/family-friendly-vegetarian-cooking-with-mansi-shah/
LOCATION:SpiceBox Organics\, 137 Caine Road\, Mid Levels\, Hong Kong
CATEGORIES:Sports & Wellness
ATTACH;FMTTYPE=image/jpeg:https://expatliving.net/hong-kong/wp-content/uploads/sites/4/2025/04/WhatsApp-Image-2025-03-18-at-21.59.23-1.jpg
ORGANIZER;CN="SpiceBox Organics":MAILTO:media@spiceboxorganics.com
END:VEVENT
BEGIN:VEVENT
DTSTART;VALUE=DATE:20250328
DTEND;VALUE=DATE:20250331
DTSTAMP:20260420T172232
CREATED:20240906T081715Z
LAST-MODIFIED:20250606T131854Z
UID:131429-1743120000-1743379199@expatliving.net
SUMMARY:Rugby Sevens in Hong Kong
DESCRIPTION:The countdown is already on for the next Rugby Sevens in Hong Kong\, with China Rugby announcing that the 2025 Cathay/HSBC Hong Kong Sevens will take place from 28 to 30 March 2025. Additionally\, World Rugby has confirmed that a direct Rugby World Cup qualification spot will be awarded to the winner of the 2025 Asia Rugby Championship. This is part of the expansion to 24 teams for the tournament in Australia in 2027.
URL:https://expatliving.net/hong-kong/event/rugby-sevens-in-hong-kong/
CATEGORIES:Sports & Wellness,Whats On Calendar
ATTACH;FMTTYPE=image/jpeg:https://expatliving.net/hong-kong/wp-content/uploads/sites/4/2024/09/Picture5-1.jpg
END:VEVENT
BEGIN:VEVENT
DTSTART;TZID=Asia/Hong_Kong:20250221T110000
DTEND;TZID=Asia/Hong_Kong:20250223T190000
DTSTAMP:20260420T172232
CREATED:20241212T094940Z
LAST-MODIFIED:20250606T131902Z
UID:135028-1740135600-1740337200@expatliving.net
SUMMARY:Vegetarian Food Asia 2025
DESCRIPTION:Hong Kong’s Largest Vegetarian Expo Returns this February! 6\,000 Vegetarian Products and Exciting Onsite Events Deliver an Annual Feast of Health and Green Living! \nThe annual Vegetarian Food Asia will take place from 21-23 February 2025 at the Hong Kong Convention and Exhibition Centre! As the largest vegetarian and green living exhibition in Hong Kong\, this year’s event\, themed “Delight in Veg Living”\, will gather 300 exhibitors and 600 brands\, showcasing over 6\,000 new vegetarian and sustainable living products. The Expo will host a series of onsite events\, professional sharing sessions\, and hands-on programs that will allow visitors to eat\, buy\, and play all in a place to explore vast possibilities of vegetarian culture. Whether you are a vegetarian enthusiast or just curious about a healthy trend\, this is an event not to be missed! \nOver 6\,000 Vegetarian and Green Living Products to Explore Health Trends The Expo will feature a wide range of global vegetarian food\, with various specialized zones including “Snack Zone”\, “Coffee\, Tea &amp; Bakery Zone”\, “VegFood Zone”\, “Veg Living Pavilion” and more. All these cover the essential aspects of clothing\, food\, housing\, and transport\, allowing visitors to easily experience a green lifestyle and discover personal health inspirations. \nDate and time: \nFriday 21 to Saturday 22 February\, 11am to 8pm\nSunday 23 February\, 11am to 7pm \nLocation: \nHall 3FG\, Hong Kong Convention and Exhibition Centre \nTicket information: \nOn-site ticket: HK$25 (Children under 11 and seniors aged 60 or above with a Senior Citizen Card or JoyYouCard are free to enter)\nPre-register for free admission here
URL:https://expatliving.net/hong-kong/event/vegetarian-food-asia-2025/
LOCATION:Hong Kong Convention and Exhibition Centre\, 1 Expo Drive\, Wan Chai\, Hong Kong
CATEGORIES:Key Events,Sports & Wellness
ATTACH;FMTTYPE=image/jpeg:https://expatliving.net/hong-kong/wp-content/uploads/sites/4/2024/12/VFA2025_Expat-Living-Event-Listing-1.jpg
ORGANIZER;CN="Baobab Tree Event":MAILTO:veg@baobab-tree-event.com
GEO:22.2833754;114.1731385
X-APPLE-STRUCTURED-LOCATION;VALUE=URI;X-ADDRESS=Hong Kong Convention and Exhibition Centre 1 Expo Drive Wan Chai Hong Kong;X-APPLE-RADIUS=500;X-TITLE=1 Expo Drive\, Wan Chai:geo:114.1731385,22.2833754
END:VEVENT
END:VCALENDAR