BEGIN:VCALENDAR
VERSION:2.0
PRODID:-//Expat Living Hong Kong - ECPv6.15.20//NONSGML v1.0//EN
CALSCALE:GREGORIAN
METHOD:PUBLISH
X-WR-CALNAME:Expat Living Hong Kong
X-ORIGINAL-URL:https://expatliving.net/hong-kong
X-WR-CALDESC:Events for Expat Living Hong Kong
REFRESH-INTERVAL;VALUE=DURATION:PT1H
X-Robots-Tag:noindex
X-PUBLISHED-TTL:PT1H
BEGIN:VTIMEZONE
TZID:Asia/Hong_Kong
BEGIN:STANDARD
TZOFFSETFROM:+0800
TZOFFSETTO:+0800
TZNAME:HKT
DTSTART:20240101T000000
END:STANDARD
END:VTIMEZONE
BEGIN:VEVENT
DTSTART;TZID=Asia/Hong_Kong:20250308T090000
DTEND;TZID=Asia/Hong_Kong:20250308T120000
DTSTAMP:20260420T211315
CREATED:20250206T065608Z
LAST-MODIFIED:20250606T131907Z
UID:137068-1741424400-1741435200@expatliving.net
SUMMARY:Stamford American School Hong Kong Open Day
DESCRIPTION:Join the Stamford American School Hong Kong\, for an exciting and informative morning! During their open day event\, discover how their learning approach empowers your child to achieve academic excellence and personal growth. Plus go on a tour to explore the state-of-the-art facilities\, meet passionate teachers and staff\, and learn about the school curriculum. This is particularly interesting because it integrates American academic standards with the International Baccalaureate Diploma Programme (IBDP). \n\n\nTo enrich the morning\, volunteer parents and students will also share their experiences. And your child will also be able to engage in hands-on activities that showcase our dynamic learning environment. \nRegister for the Open Day here!
URL:https://expatliving.net/hong-kong/event/stamford-american-school-hong-kong-open-day/
LOCATION:Stamford American School\, 25 Man Fuk Road\, Ho Man Tin\, Kowloon\, Hong Kong
CATEGORIES:Key Events,Kids & Family,Whats On Calendar
ATTACH;FMTTYPE=image/jpeg:https://expatliving.net/hong-kong/wp-content/uploads/sites/4/2020/11/Stamford-International-School.jpg
ORGANIZER;CN="Stamford American School":MAILTO:admissions@sais.edu.hk
GEO:22.3193383;114.1785997
X-APPLE-STRUCTURED-LOCATION;VALUE=URI;X-ADDRESS=Stamford American School 25 Man Fuk Road Ho Man Tin Kowloon Hong Kong;X-APPLE-RADIUS=500;X-TITLE=25 Man Fuk Road\, Ho Man Tin:geo:114.1785997,22.3193383
END:VEVENT
END:VCALENDAR