BEGIN:VCALENDAR
VERSION:2.0
PRODID:-//Expat Living Hong Kong - ECPv6.15.20//NONSGML v1.0//EN
CALSCALE:GREGORIAN
METHOD:PUBLISH
X-ORIGINAL-URL:https://expatliving.net/hong-kong
X-WR-CALDESC:Events for Expat Living Hong Kong
REFRESH-INTERVAL;VALUE=DURATION:PT1H
X-Robots-Tag:noindex
X-PUBLISHED-TTL:PT1H
BEGIN:VTIMEZONE
TZID:Asia/Hong_Kong
BEGIN:STANDARD
TZOFFSETFROM:+0800
TZOFFSETTO:+0800
TZNAME:HKT
DTSTART:20250101T000000
END:STANDARD
END:VTIMEZONE
BEGIN:VEVENT
DTSTART;VALUE=DATE:20260316
DTEND;VALUE=DATE:20260323
DTSTAMP:20260420T025918
CREATED:20260211T040929Z
LAST-MODIFIED:20260211T040929Z
UID:149181-1773619200-1774223999@expatliving.net
SUMMARY:Aotearoa International Film Festival 2026
DESCRIPTION:The Aotearoa International Film Festival brings New Zealand cinema to Hong Kong!\nThe festival will showcase the bold and diverse storytelling of contemporary New Zealand cinema\, featuring three exclusive Hong Kong premieres that highlight the country’s landscapes\, cultures\, and powerful narratives. \nThe festival is led by Festival Director Semiquaver Iafeta\, a New Zealand-born actor of Samoan and Tokelauan heritage who has lived in Hong Kong for nearly 25 years. A former Hong Kong rugby representative and pioneering Pacific Islander actor in Hong Kong’s film and television industry\, Iafeta aims to foster cultural exchange between Asia and the Pacific through film. The festival is supported by New Zealand Consul General Peter Lund and returns this year with a larger venue\, additional sponsors\, themed prizes and special surprises celebrating Kiwi and Pacific Island culture. \nEvent highlights:\n\n\nThe Convert (Drama): A lay preacher confronts his violent past amid conflict between Māori tribes in 1830s New Zealand. \n\n\nTinā (Mother) (Drama): A grieving Samoan mother forms a soulful student choir at a private school\, rediscovering identity\, healing\, and cultural connection. \n\n\nHunt for the Wilderpeople (Action/Comedy): A rebellious boy and his reluctant uncle bond while on the run in the New Zealand wilderness.
URL:https://expatliving.net/hong-kong/event/aotearoa-international-film-festival-2026/
LOCATION:Emperor Theatre\, Times Square\, Causeway Bay
CATEGORIES:Arts & Entertainment
ATTACH;FMTTYPE=image/jpeg:https://expatliving.net/hong-kong/wp-content/uploads/sites/4/2026/02/WhatsApp-Image-2026-02-05-at-10.11.22-709x1024-1-1.jpg
END:VEVENT
END:VCALENDAR